BEGIN:VCALENDAR
VERSION:2.0
PRODID:Lake Helen, FL Calendar Creator
METHOD:PUBLISH
BEGIN:VEVENT
DTSTAMP:20251215T123320
DTSTART:20260409T190000
DTEND:20260409T220000
SUMMARY:Commission Meeting
DESCRIPTION:Meetings are held up stairs in the Commission Chambers
X-ALT-DESC;FMTTYPE=text/html:Meetings are held up stairs in the Commission Chambers
LOCATION:City Hall\, 327 S. Lakeview Drive Lake Helen\, Florida 32744
CLASS:PUBLIC
END:VEVENT
END:VCALENDAR
