BEGIN:VCALENDAR
VERSION:2.0
PRODID:Lake Helen, FL Calendar Creator
METHOD:PUBLISH
BEGIN:VEVENT
DTSTAMP:20260323T123545
DTSTART:20260425T080000
DTEND:20260425T130000
SUMMARY:Market in the Park
DESCRIPTION:
X-ALT-DESC;FMTTYPE=text/html:
LOCATION:Blake Park\, 493 S. Lakeview Drive Lake Helen\, Florida 32744
CLASS:PUBLIC
END:VEVENT
END:VCALENDAR
