BEGIN:VCALENDAR
VERSION:2.0
PRODID:Lake Helen, FL Calendar Creator
METHOD:PUBLISH
BEGIN:VEVENT
DTSTAMP:20260323T123600
DTSTART:20260428T080000
DTEND:20260428T110000
SUMMARY:Historic Preservation Board Meeting
DESCRIPTION:Meeting is held in the Conference room on the 1st floor at City Hall
X-ALT-DESC;FMTTYPE=text/html:Meeting is held in the Conference room on the 1st floor at City Hall
LOCATION:City Hall\, 327 S. Lakeview Drive Lake Helen\, Florida 32744
CLASS:PUBLIC
END:VEVENT
END:VCALENDAR
