BEGIN:VCALENDAR
VERSION:2.0
PRODID:Lake Helen, FL Calendar Creator
METHOD:PUBLISH
BEGIN:VEVENT
DTSTAMP:20260323T130350
DTSTART:20260416T180000
DTEND:20260416T190000
SUMMARY:Hurricane Preparedness Workshop
DESCRIPTION:
X-ALT-DESC;FMTTYPE=text/html:
LOCATION:City Hall\, 327 S. Lakeview Drive Lake Helen\, Florida 32744
CLASS:PUBLIC
END:VEVENT
END:VCALENDAR
