BEGIN:VCALENDAR
VERSION:2.0
PRODID:Lake Helen, FL Calendar Creator
METHOD:PUBLISH
BEGIN:VEVENT
DTSTAMP:20260323T131300
DTSTART:20260421T090000
DTEND:20260421T110000
SUMMARY:Magistrate Hearing
DESCRIPTION:This will be held in the conference room on the 1st floor of City Hall
X-ALT-DESC;FMTTYPE=text/html:This will be held in the conference room on the 1st floor of City Hall
LOCATION:City Hall\, 327 S. Lakeview Drive Lake Helen\, Florida 32744
CLASS:PUBLIC
END:VEVENT
END:VCALENDAR
