BEGIN:VCALENDAR
VERSION:2.0
PRODID:Lake Helen, FL Calendar Creator
METHOD:PUBLISH
BEGIN:VEVENT
DTSTAMP:20260331T113914
DTSTART:20260403T080000
DTEND:20260403T163000
SUMMARY:City Hall Closed
DESCRIPTION:City Hall will be closed April 3rd for Good Friday and Monday April 6th in observance of the Easter Holiday
X-ALT-DESC;FMTTYPE=text/html:City Hall will be closed April 3rd for Good Friday and Monday April 6th in observance of the Easter Holiday
LOCATION:City Hall\, 327 S. Lakeview Drive Lake Helen\, Florida 32744
CLASS:PUBLIC
END:VEVENT
END:VCALENDAR
