BEGIN:VCALENDAR
VERSION:2.0
PRODID:Lake Helen, FL Calendar Creator
METHOD:PUBLISH
BEGIN:VEVENT
DTSTAMP:20260331T114018
DTSTART:20260406T080000
DTEND:20260406T163000
SUMMARY:City Hall closed
DESCRIPTION:We will reopen for normal business hours Tuesday April 7th @ 8am
X-ALT-DESC;FMTTYPE=text/html:We will reopen for normal business hours Tuesday April 7th @ 8am
LOCATION:City Hall\, 327 S. Lakeview Drive Lake Helen\, Florida 32744
CLASS:PUBLIC
END:VEVENT
END:VCALENDAR
