BEGIN:VCALENDAR
VERSION:2.0
PRODID:Lake Helen, FL Calendar Creator
METHOD:PUBLISH
BEGIN:VEVENT
DTSTAMP:20260420T092428
DTSTART:20260427T190000
DTEND:20260427T200000
SUMMARY:PLDRC Meeting
DESCRIPTION:
X-ALT-DESC;FMTTYPE=text/html:
LOCATION:City Hall\, 327 S. Lakeview Drive Lake Helen\, Florida 32744
CLASS:PUBLIC
END:VEVENT
END:VCALENDAR
